BEGIN:VCALENDAR
VERSION:2.0
PRODID:-//proehe - ECPv6.15.20//NONSGML v1.0//EN
CALSCALE:GREGORIAN
METHOD:PUBLISH
X-WR-CALNAME:proehe
X-ORIGINAL-URL:https://proehe.de
X-WR-CALDESC:Veranstaltungen für proehe
REFRESH-INTERVAL;VALUE=DURATION:PT1H
X-Robots-Tag:noindex
X-PUBLISHED-TTL:PT1H
BEGIN:VTIMEZONE
TZID:Europe/Paris
BEGIN:DAYLIGHT
TZOFFSETFROM:+0100
TZOFFSETTO:+0200
TZNAME:CEST
DTSTART:20230326T010000
END:DAYLIGHT
BEGIN:STANDARD
TZOFFSETFROM:+0200
TZOFFSETTO:+0100
TZNAME:CET
DTSTART:20231029T010000
END:STANDARD
BEGIN:DAYLIGHT
TZOFFSETFROM:+0100
TZOFFSETTO:+0200
TZNAME:CEST
DTSTART:20240331T010000
END:DAYLIGHT
BEGIN:STANDARD
TZOFFSETFROM:+0200
TZOFFSETTO:+0100
TZNAME:CET
DTSTART:20241027T010000
END:STANDARD
BEGIN:DAYLIGHT
TZOFFSETFROM:+0100
TZOFFSETTO:+0200
TZNAME:CEST
DTSTART:20250330T010000
END:DAYLIGHT
BEGIN:STANDARD
TZOFFSETFROM:+0200
TZOFFSETTO:+0100
TZNAME:CET
DTSTART:20251026T010000
END:STANDARD
END:VTIMEZONE
BEGIN:VEVENT
DTSTART;VALUE=DATE:20240210
DTEND;VALUE=DATE:20240211
DTSTAMP:20260420T091827
CREATED:20231107T213844Z
LAST-MODIFIED:20240210T154217Z
UID:2363-1707523200-1707609599@proehe.de
SUMMARY:Candle-Light-Dinner zum Valentinstag II
DESCRIPTION:10. Februar 2024 – 18:00 – 22:00\n\n\n\nVerliebt\, verlobt\, verheiratet – unsere Liebe braucht Höhepunkte. Wir laden Sie herzlich ein zu einem festlichen Buffet im Spiegelsaal und einer Segnungsfeier in der Kapelle. Freuen Sie sich auf einen unvergesslichen Abend im Schloss\, mit Impulsen\, die Ihre Beziehung vertiefen. \nWir beginnen um 18 Uhr mit einem Sektempfang. Die Getränke sind im Preis inbegriffen. \nIhre Anmeldung erbitten wir bis zum 31. Januar 2024. \nTipp: Verbinden Sie das Candlelight-Dinner mit einem romantischen Wochenende in Craheim und buchen Sie eine Übernachtung dazu! Wir bieten für Sie am Sonntag ein Frühstück an. \n\nDetails\n\nDatum: 10. Februar 2024 \nZeit: 18:00 – 22:00\n\n\n\n\n\nKomplettpreis: Getränke und Essen pro Paar 95 €\n\n  \n\nTagungsmitarbeiter u.a.\n\n\n \nEberhard und Dagmar Hamann
URL:https://proehe.de/veranstaltung/candle-light-dinner-zum-valentinstag-ii/
LOCATION:Schloss Craheim\, Craheim 1\, Stadtlauringen\, Bayern\, 97488\, Deutschland
CATEGORIES:Candlelight Dinner
END:VEVENT
BEGIN:VEVENT
DTSTART;VALUE=DATE:20240215
DTEND;VALUE=DATE:20240219
DTSTAMP:20260420T091827
CREATED:20240210T154107Z
LAST-MODIFIED:20240210T155027Z
UID:2410-1707955200-1708300799@proehe.de
SUMMARY:Aus der Enge in die Weite I
DESCRIPTION:Das Leben ist spannend! Besonders in Phasen\, in denen man das Leben hinterfragt oder selbst hinterfragt wird. \nIn diesen Tagen gibt es Raum\, diese Fragen aufzugreifen und zu bewegen. Das Seminar richtet sich an Menschen\, die mit ihren persönlichen Themen unterwegs sind\, sich nach Veränderung sehnen und den nächsten Schritt auf einem neuen Weg machen möchten. Lassen Sie sich von Gott berühren und seinen Weg zeigen. Ein Seminar für alle\, die sich entfalten oder über ihr Leben (neu) nachdenken möchten\, und Begleitung oder einen Klärungspartner suchen \nNeben Impulsen für die Arbeit mit persönlichen Themen wird es Gelegenheit für Eigenarbeit und Einzelgespräche geben. \n\nTagungsmitarbeiter:\n  \n\n\n \nMichael und Ulrike Wick
URL:https://proehe.de/veranstaltung/aus-der-enge-in-die-weite-i/
LOCATION:Schloss Craheim\, Craheim 1\, Stadtlauringen\, Bayern\, 97488\, Deutschland
CATEGORIES:Seelsorge
END:VEVENT
END:VCALENDAR