BEGIN:VCALENDAR
VERSION:2.0
PRODID:-//proehe - ECPv6.15.20//NONSGML v1.0//EN
CALSCALE:GREGORIAN
METHOD:PUBLISH
X-ORIGINAL-URL:https://proehe.de
X-WR-CALDESC:Veranstaltungen für proehe
REFRESH-INTERVAL;VALUE=DURATION:PT1H
X-Robots-Tag:noindex
X-PUBLISHED-TTL:PT1H
BEGIN:VTIMEZONE
TZID:Europe/Paris
BEGIN:DAYLIGHT
TZOFFSETFROM:+0100
TZOFFSETTO:+0200
TZNAME:CEST
DTSTART:20230326T010000
END:DAYLIGHT
BEGIN:STANDARD
TZOFFSETFROM:+0200
TZOFFSETTO:+0100
TZNAME:CET
DTSTART:20231029T010000
END:STANDARD
BEGIN:DAYLIGHT
TZOFFSETFROM:+0100
TZOFFSETTO:+0200
TZNAME:CEST
DTSTART:20240331T010000
END:DAYLIGHT
BEGIN:STANDARD
TZOFFSETFROM:+0200
TZOFFSETTO:+0100
TZNAME:CET
DTSTART:20241027T010000
END:STANDARD
BEGIN:DAYLIGHT
TZOFFSETFROM:+0100
TZOFFSETTO:+0200
TZNAME:CEST
DTSTART:20250330T010000
END:DAYLIGHT
BEGIN:STANDARD
TZOFFSETFROM:+0200
TZOFFSETTO:+0100
TZNAME:CET
DTSTART:20251026T010000
END:STANDARD
END:VTIMEZONE
BEGIN:VEVENT
DTSTART;TZID=Europe/Paris:20241003T160000
DTEND;TZID=Europe/Paris:20241006T120000
DTSTAMP:20260419T223200
CREATED:20240428T131810Z
LAST-MODIFIED:20240428T135712Z
UID:2453-1727971200-1728216000@proehe.de
SUMMARY:Aufbruch in der Lebensmitte
DESCRIPTION:Jeder von uns erlebt sie: die Lebensmitte \nÄhnlich wie in der Pubertät ist es eine Zeit des Umbruchs und der Neuorientierung. \nWir wollen uns den Fragen nach dem Woher und Wohin stellen: \n\nWas geschieht mit meinem Körper\, mit meinen Gefühlen\, mit meinem Glauben?\nWie gelingen neue Wege als Frau\, als Mann\, in der Familie oder der Partnerschaft. Ist eine berufliche Neuorientierung dran?\n\nWir sind gespannt\, welche Lebens- und Segensspuren auf diesem Weg sichtbar werden. \n  \nTagungsmitarbeiter\n\n\n \nDietlinde und Heiner Frank \n\n\n\n\n \nMichael und Ulrike Wick \n\n\n\n\n \nCornelia und Karl Heinz Link> \n\n\n 
URL:https://proehe.de/veranstaltung/eheseminar-aufbruch-in-der-lebensmitte/
LOCATION:Schloss Craheim\, Craheim 1\, Stadtlauringen\, Bayern\, 97488\, Deutschland
CATEGORIES:EHEseminar,Partnerschaft
ORGANIZER;CN="proEHE":MAILTO:kontakt@proehe.de
END:VEVENT
BEGIN:VEVENT
DTSTART;TZID=Europe/Paris:20241031T140000
DTEND;TZID=Europe/Paris:20241103T130000
DTSTAMP:20260419T223200
CREATED:20240428T135319Z
LAST-MODIFIED:20240428T135516Z
UID:2465-1730383200-1730638800@proehe.de
SUMMARY:Die Liebe neu entdecken
DESCRIPTION:Die Begeisterung vom Anfang spüren. Den Alltag zuhause lassen. Der Sehnsucht Worte geben. Ermutigung bekommen. Das Versteckspiel beenden. Einen neuen Weg gemeinsam wagen. Gott begegnen. Einander reich machen. Spaß erleben. An der Brücke zueinander bauen. \nDurch thematische Impulse\, Gespräche zu zweit und in Begleitung eines Mitarbeiterpaares können Sie an der Brücke zueinander bauen. \nVoraussetzung für die Teilnahme: Sie füllen vor dem Seminar zuhause am PC einen Fragebogen aus. Nach Ihrer Seminaranmeldung erhalten Sie von uns die erforderlichen Zugangsdaten. \nDas Seminar beginnt bereits um 14:30 Uhr mit dem Kaffeetrinken (6 € p.P. zusätzlich zur VP). \n\nMehr Info auch auf: www.prepare-enrich.com\n\n  \nTagungsmitarbeiter u.a.\n\n\n\n\n \nHartmut und Elfriede Völkner
URL:https://proehe.de/veranstaltung/die-liebe-neu-entdecken/
LOCATION:Schloss Craheim\, Craheim 1\, Stadtlauringen\, Bayern\, 97488\, Deutschland
CATEGORIES:EHEseminar,Partnerschaft
ORGANIZER;CN="proEHE":MAILTO:kontakt@proehe.de
END:VEVENT
END:VCALENDAR