BEGIN:VCALENDAR
VERSION:2.0
PRODID:-//proehe - ECPv6.15.20//NONSGML v1.0//EN
CALSCALE:GREGORIAN
METHOD:PUBLISH
X-WR-CALNAME:proehe
X-ORIGINAL-URL:https://proehe.de
X-WR-CALDESC:Veranstaltungen für proehe
REFRESH-INTERVAL;VALUE=DURATION:PT1H
X-Robots-Tag:noindex
X-PUBLISHED-TTL:PT1H
BEGIN:VTIMEZONE
TZID:Europe/Paris
BEGIN:DAYLIGHT
TZOFFSETFROM:+0100
TZOFFSETTO:+0200
TZNAME:CEST
DTSTART:20240331T010000
END:DAYLIGHT
BEGIN:STANDARD
TZOFFSETFROM:+0200
TZOFFSETTO:+0100
TZNAME:CET
DTSTART:20241027T010000
END:STANDARD
BEGIN:DAYLIGHT
TZOFFSETFROM:+0100
TZOFFSETTO:+0200
TZNAME:CEST
DTSTART:20250330T010000
END:DAYLIGHT
BEGIN:STANDARD
TZOFFSETFROM:+0200
TZOFFSETTO:+0100
TZNAME:CET
DTSTART:20251026T010000
END:STANDARD
BEGIN:DAYLIGHT
TZOFFSETFROM:+0100
TZOFFSETTO:+0200
TZNAME:CEST
DTSTART:20260329T010000
END:DAYLIGHT
BEGIN:STANDARD
TZOFFSETFROM:+0200
TZOFFSETTO:+0100
TZNAME:CET
DTSTART:20261025T010000
END:STANDARD
END:VTIMEZONE
BEGIN:VEVENT
DTSTART;TZID=Europe/Paris:20251009T150000
DTEND;TZID=Europe/Paris:20251012T133000
DTSTAMP:20260420T171406
CREATED:20250208T115544Z
LAST-MODIFIED:20250208T133145Z
UID:2514-1760022000-1760275800@proehe.de
SUMMARY:Älter werden - weiter wachsen
DESCRIPTION:Für alle ab 60 Jahren\nHinweis: Datum geändert!\nNeues Datum wie hier angezeigt: 9.-12.10.25\n  \nDer „Herbst des Lebens“\, der oft mit dem Übergang in den Ruhestand zusammenfällt\, ist für die meisten von uns noch fremd und vielleicht sogar mit Angst besetzt. Viele neue Überlegungen müssen angestellt werden\, wie dieser sonnige oder auch stürmische „Herbst“ sinnvoll zu gestalten ist. \nWas erwartet mich da? Wie kann ich mich darauf vorbereiten? Kann ich Neues wagen? Wir wollen uns mit den Herausforderungen\, Chancen und Krisen dieser Lebensphase beschäftigen. \nWeitere Angaben  \nKursgebühren p. P. : 150 € \nFrühbucherpreis : bis 04.09.25 nur 120 € \nzzgl. Gesamtpreis pro Erw. für Vollpension und Unterkunft im Schloss mit Du/WC :EZ 277\,50€ / DZ 250\,50€ \nIm Franziskushof :EZ 207\,00€ / DZ 180\,00€ \nexemplarischer Seminarablauf  \nals PDF anzeigen \nTeilnehmerzahl :12-40 \nFür Einzelpersonen und Paare. \nTagungsmitarbeiter\n\n\n \nRudolf und Katrin Fuchs \n\n\n\n\n \nElfriede und Hartmut Völkner \n\n\n\n\n \nHeidemarie und Georg Weiß
URL:https://proehe.de/veranstaltung/aelter-werden-weiter-wachsen-2/
LOCATION:Schloss Craheim\, Craheim 1\, Stadtlauringen\, Bayern\, 97488\, Deutschland
CATEGORIES:60+,EHEseminar,Einzelpersonen,Paare beraten Paare,Seelsorge
ORGANIZER;CN="proEHE":MAILTO:kontakt@proehe.de
END:VEVENT
END:VCALENDAR